BEGIN:VCALENDAR
VERSION:2.0
PRODID:-//ChamberMaster//Event Calendar 2.0//EN
METHOD:PUBLISH
X-PUBLISHED-TTL:P3D
REFRESH-INTERVAL:P3D
CALSCALE:GREGORIAN
BEGIN:VEVENT
DTSTART:20260430T200000Z
DTEND:20260430T220000Z
X-MICROSOFT-CDO-ALLDAYEVENT:FALSE
SUMMARY:Detecting Lying and Deception Workshop
DESCRIPTION:Detecting Lying and Deception Workshop\n\n\n\nWould you like to know if the car repair person is being honest when they say\, "you need to replace an expensive part."\n\n\n\nWould you like to know if a job applicant is being truthful?\n\n\n\nIs there really a "Pinocchio effect" with liars?\n\n\n\nIf you would like to explore the fascinating world of detecting lying and deception\, please join us for a presentation on Detecting Lying and Deception presented by Jerry Balistreri. Jerry (B.S.\, M.S.\, M.Ed.\, DTE\, ASTD Certified Trainer) is a professional educator\, administrator\, trainer and author.  He has trained over 36\,000 people how to read body language in all 50 states and several foreign countries\, over the past 20 years.  Jerry has extensive experience working with over 70 law enforcement and investigative organizations on detecting deception. \n\n\n\nWe invite you to join us for a great time of engaging learning!\n\n\n\nFree will offering\, $10 suggested donation.\n\n\n\nCoffee and Cookies available\n\n\n\nWorkshop will be at:\n\nJOY Church\n\n13430 N Saguaro Blvd\, Suite 201\n\nFountain Hills\, AZ 85268
X-ALT-DESC;FMTTYPE=text/html:Detecting Lying and Deception Workshop<br />\n<br />\nWould you like to know if the car repair person is being honest when they say\, &ldquo\;you need to replace an expensive part.&rdquo\;<br />\n<br />\nWould you like to know if a job applicant is being truthful?<br />\n<br />\nIs there really a &ldquo\;Pinocchio effect&rdquo\; with liars?<br />\n<br />\nIf you would like to explore the fascinating world of detecting lying and deception\, please join us for a presentation on Detecting Lying and Deception presented by Jerry Balistreri. Jerry (B.S.\, M.S.\, M.Ed.\, DTE\, ASTD Certified Trainer) is a professional educator\, administrator\, trainer and author.&nbsp\; He has trained over 36\,000 people how to read body language in all 50 states and several foreign countries\, over the past 20 years.&nbsp\; Jerry has extensive experience working with over 70 law enforcement and investigative organizations on detecting deception.&nbsp\;<br />\n<br />\nWe invite you to join us for a great time of engaging learning!<br />\n<br />\nFree will offering\, $10 suggested donation.<br />\n<br />\nCoffee and Cookies available<br />\n<br />\nWorkshop will be at:<br />\nJOY Church<br />\n13430 N Saguaro Blvd\, Suite 201<br />\nFountain Hills\, AZ 85268<br />\n<br />\n&nbsp\;
LOCATION:JOY Church 13430 N. Saguaro Blvd\, Suite 201\, Fountain Hills\, AZ
UID:e.2426.54786
SEQUENCE:3
DTSTAMP:20260420T234908Z
URL:http://fountainhillschamber.chambermaster.com/events/details/detecting-lying-and-deception-workshop-54786
END:VEVENT

END:VCALENDAR
