BEGIN:VCALENDAR
VERSION:2.0
PRODID:-//ChamberMaster//Event Calendar 2.0//EN
METHOD:PUBLISH
X-PUBLISHED-TTL:P3D
REFRESH-INTERVAL:P3D
CALSCALE:GREGORIAN
BEGIN:VEVENT
DTSTART:20260814T170000Z
DTEND:20260814T180000Z
X-MICROSOFT-CDO-ALLDAYEVENT:FALSE
SUMMARY:Success Factor
DESCRIPTION:Success Factor: Monthly Meet-Up for New Members\n\nAt the Fountain Hills Chamber of Commerce\, we believe that early engagement leads to accelerated success. Research shows that new businesses who actively engage with their local chamber are twice as likely to thrive compared to those who go it alone.\n\nMeet Success Factor\, a monthly mixer designed to connect\, support\, and accelerate the success of our newest members while also welcoming our seasoned members who want to play a meaningful role in strengthening our business community.\n\nEach gathering creates intentional opportunities for introductions\, relationship-building\, and sharing your best referral a powerful way to highlight connections that can immediately support fellow members' growth.\n\n\n\nWhen you participate\, you won't just network you will actively contribute to a culture of collaboration\, where visibility increases for your business\, trust is built faster and meaningful business opportunities emerge.\n\nFor our experienced members\, Success Factor offers a unique chance to mentor\, guide\, and learn how to best support new members\, strengthening their own network while reinforcing their leadership within the chamber community.\n\nTogether\, this creates real value: stronger connections\, faster integration into the Chamber community\, and a more engaged\, referral-driven environment where every member has the opportunity to succeed.\n\n\n\nSee you at Success Factor!
X-ALT-DESC;FMTTYPE=text/html:<p><strong>Success Factor: Monthly Meet-Up for New Members</strong></p>\n\n<p data-end="354" data-start="104">At the Fountain Hills Chamber of Commerce\, we believe that early engagement leads to accelerated success. Research shows that new businesses who actively engage with their local chamber are&nbsp\;<em>twice</em>&nbsp\;as likely to thrive compared to those who go it alone.</p>\n\n<p data-end="614" data-start="356">Meet&nbsp\;<strong data-end="400" data-start="382">Success Factor</strong>\, a monthly mixer designed to connect\, support\, and accelerate the success of our newest members&mdash\;while also welcoming our seasoned members who want to play a meaningful role in strengthening our business community.</p>\n\n<p data-end="1036" data-start="616">Each gathering creates intentional opportunities for&nbsp\;<strong data-end="686" data-start="669">introductions</strong>\, relationship-building\, and sharing your&nbsp\;<strong data-end="745" data-start="728">best referral</strong>&mdash\;a powerful way to highlight connections that can immediately support fellow members&rsquo\; growth.<br />\n<br />\nWhen you participate\, you won&#39\;t&nbsp\;just network&mdash\;you will&nbsp\;actively contribute to a culture of collaboration\, where visibility increases for your business\, trust is built faster&nbsp\;and meaningful business opportunities emerge.</p>\n\n<p data-end="1256" data-start="1038">For our experienced members\, Success Factor offers a unique chance to&nbsp\;<strong data-end="1168" data-start="1108">mentor\, guide\, and learn how to best support new members</strong>\, strengthening their own network while reinforcing their leadership within the chamber community.</p>\n\n<p data-end="1460" data-start="1258">Together\, this creates real value: stronger connections\, faster integration into the Chamber community\, and a more engaged\, referral-driven environment where every member has the opportunity to succeed.<br />\n<br />\n<em><strong>See you at Success Factor!</strong></em></p>\n\n<p>&nbsp\;</p>\n
LOCATION:TBD
UID:e.2426.51361
SEQUENCE:3
DTSTAMP:20260422T184040Z
URL:http://fountainhillschamber.chambermaster.com/events/details/success-factor-51361
END:VEVENT

END:VCALENDAR
